BEGIN:VCALENDAR
PRODID:-//Hannon Hill Events//Cascade CMS//EN
VERSION:2.0
X-WR-CALNAME:Doing Business Texas Style 2026
X-WR-TIMEZONE:America/New_York
BEGIN:VTIMEZONE
TZID:America/New_York
BEGIN:DAYLIGHT
TZOFFSETFROM:-0500
TZOFFSETTO:-0400
TZNAME:EDT
DTSTART:19700308T020000
RRULE:FREQ=YEARLY;BYMONTH=3;BYDAY=2SU
END:DAYLIGHT
BEGIN:STANDARD
TZOFFSETFROM:-0400
TZOFFSETTO:-0500
TZNAME:EST
DTSTART:19701101T020000
RRULE:FREQ=YEARLY;BYMONTH=11;BYDAY=1SU
END:STANDARD
END:VTIMEZONE
BEGIN:VEVENT
DTSTART:20260511T000000
DTEND:20260512T000000
DTSTAMP:20260421T010611
UID:ab33c6f2cc9e91440ebce806dffb3fd3
CREATED:20260420T090310
DESCRIPTION:Join this free event to connect with Texas state agencies and 
universities\, attend workshops\, and explore business opportunities.
LAST-MODIFIED:20260420T092707
SEQUENCE:0
STATUS:CONFIRMED
SUMMARY:Doing Business Texas Style 2026
TRANSP:OPAQUE
END:VEVENT
END:VCALENDAR
